Workbook

Sheet Overview
A2: Sitewide
A3: Instructions: Page through each tab on the sheet, and select the appropriate "Status" for each item. You can use this Overview tab to watch your progress.
A4: Pages | B4: Tasks | C4: To Do | D4: To Improve | E4: Done / N/A | F4: % Complete
A5: 1) Sitewide | B5: =COUNTA('1) Sitewide'!D:D)-1 -> 43 | C5: =COUNTIFS('1) Sitewide'!D:D,"To Do") -> 0 | D5: =COUNTIFS('1) Sitewide'!D:D,"To Improve") -> 0 | E5: =COUNTIF('1) Sitewide'!D:D,"Done") + COUNTIF('1) Sitewide'!D:D,"N/A") -> 0 | F5: =E5/B5 -> 0
A6: 2) Home | B6: =COUNTA('2) Home'!D:D)-1 -> 18 | C6: =COUNTIFS('2) Home'!D:D,"To Do") -> 0 | D6: =COUNTIFS('2) Home'!D:D,"To Improve") -> 0 | E6: =COUNTIF('2) Home'!D:D,"Done") + COUNTIF('2) Home'!D:D,"N/A") -> 0 | F6: =E6/B6 -> 0
A7: 3) Category Listings | B7: =COUNTA('3) Category Listings'!D:D)-1 -> 23 | C7: =COUNTIFS('3) Category Listings'!D:D,"To Do") -> 0 | D7: =COUNTIFS('3) Category Listings'!D:D,"To Improve") -> 0 | E7: =COUNTIF('3) Category Listings'!D:D,"Done") + COUNTIF('3) Category Listings'!D:D,"N/A") -> 0 | F7: =E7/B7 -> 0
A8: 4) Products | B8: =COUNTA('4) Products'!D:D)-1 -> 44 | C8: =COUNTIFS('4) Products'!D:D,"To Do") -> 0 | D8: =COUNTIFS('4) Products'!D:D,"To Improve") -> 0 | E8: =COUNTIF('4) Products'!D:D,"Done") + COUNTIF('4) Products'!D:D,"N/A") -> 0 | F8: =E8/B8 -> 0
A9: 5) Cart | B9: =COUNTA('5) Cart'!D:D)-1 -> 24 | C9: =COUNTIFS('5) Cart'!D:D,"To Do") -> 0 | D9: =COUNTIFS('5) Cart'!D:D,"To Improve") -> 0 | E9: =COUNTIF('5) Cart'!D:D,"Done") + COUNTIF('5) Cart'!D:D,"N/A") -> 0 | F9: =E9/B9 -> 0
A10: 6) Checkout | B10: =COUNTA('6) Checkout'!D:D)-1 -> 56 | C10: =COUNTIFS('6) Checkout'!D:D,"To Do") -> 0 | D10: =COUNTIFS('6) Checkout'!D:D,"To Improve") -> 0 | E10: =COUNTIF('6) Checkout'!D:D,"Done") + COUNTIF('6) Checkout'!D:D,"N/A") -> 0 | F10: =E10/B10 -> 0
A11: 7) Order Confirmation | B11: =COUNTA('7) Order Confirmation'!D:D)-1 -> 13 | C11: =COUNTIFS('7) Order Confirmation'!D:D,"To Do") -> 0 | D11: =COUNTIFS('7) Order Confirmation'!D:D,"To Improve") -> 0 | E11: =COUNTIF('7) Order Confirmation'!D:D,"Done") + COUNTIF('7) Order Confirmation'!D:D,"N/A") -> 0 | F11: =E11/B11 -> 0
A12: TOTALS | B12: =SUM(B5:B11) -> 221 | C12: =SUM(C5:C11) -> 0 | D12: =SUM(D5:D11) -> 0 | E12: =SUM(E5:E11) -> 0 | F12: =E12/B12 -> 0
A17: Need More Help? Contact TheeDigital Today: 919-341-8901
A18: https://www.theedigital.com/

Sheet 1) Sitewide
A2: Sitewide
A3: General | C3: Impact | D3: Status
A4: 1 | B4: Page Load Speed: High-impact pages load under 3 seconds (home, category, product, search, cart) | C4: 🔴 High | D4: Select
A5: 2 | B5: Call-To-Action: Seen on 1st screen of every page | C5: 🟣 Medium | D5: Select
A6: 3 | B6: Cookie notification bar: unobtrusive and easily closed or approved | C6: 🟤 Low | D6: Select
A7: 4 | B7: Personalize everything | C7: 🟣 Medium | D7: Select
A8: 5 | B8: Upsells presented: Product pages, search, cart & checkout | C8: 🟣 Medium | D8: Select
A9: 6 | B9: Popup Review: Are they at the right time and not obtrusive? | C9: 🔴 High | D9: Select
A10: 7 | B10: Promotional banner: prominent site-wide offer with a clear CTA | C10: 🔴 High | D10: Select
A11: 8 | B11: "Back to top" link/icon | C11: 🟤 Low | D11: Select
A12: 9 | B12: Live Chat | C12: 🟤 Low | D12: Select
A13: 10 | B13: ADA compliant | C13: 🟤 Low | D13: Select
A15: Buttons & Links
A16: 11 | B16: Consistent & obvious: always same color, hover change, underline, etc | C16: 🟣 Medium | D16: Select
A17: 12 | B17: Copy is actionable & timely (Shop Now, Contact Us Today) | C17: 🔴 High | D17: Select
A18: 13 | B18: Mobile (thumb) friendly with enough spacing | C18: 🔴 High | D18: Select
A19: 14 | B19: Not a link? Dont make it look like a link. | C19: 🟤 Low | D19: Select
A21: Menu & Navigation
A22: 15 | B22: Consistent and expected; unchanging and using best practices | C22: 🔴 High | D22: Select
A23: 16 | B23: Logo acts as "home" button | C23: 🟤 Low | D23: Select
A24: 17 | B24: Clearly identified in navigation where the user is on the site via breadcrumbs or highlighting | C24: 🟤 Low | D24: Select
A25: 18 | B25: Labels and copy are clear and fine-tuned for audience | C25: 🟣 Medium | D25: Select
A26: 19 | B26: Menus are ordered from most important to least important or Alpha whenever possible | C26: 🟤 Low | D26: Select
A27: 20 | B27: Main menu doesn't include unecessary pages such as Privacy Policy (put in footer) | C27: 🟤 Low | D27: Select
A28: 21 | B28: If locations available, display location icon / location | C28: 🟤 Low | D28: Select
A29: 22 | B29: Sticky navigation is in place | C29: 🟣 Medium | D29: Select
A30: 23 | B30: Sign In or Account Link | C30: 🟤 Low | D30: Select
A32: Search Box & Search Results
A33: 24 | B33: Search box is prominently displayed and constant using best practices | C33: 🔴 High | D33: Select
A34: 25 | B34: Search Box is large enough for long strings | C34: 🟤 Low | D34: Select
A35: 26 | B35: "Enter" key works within search box | C35: 🟤 Low | D35: Select
A36: 27 | B36: Auto-complete, spell check and suggestions available | C36: 🔴 High | D36: Select
A37: 28 | B37: Search results make sense and are displayed by relevancy, with option to re-search | C37: 🟤 Low | D37: Select
A38: 29 | B38: Zero results: offer common search terms or similar search terms | C38: 🟣 Medium | D38: Select
A39: 30 | B39: Advanced Search Results tips available | C39: 🟤 Low | D39: Select
A41: Shopping Cart in Menu
A42: 31 | B42: Shopping Cart Icon displayed in same location across entire site (best practice right top) | C42: 🔴 High | D42: Select
A43: 32 | B43: Number of items in cart displayed | C43: 🟣 Medium | D43: Select
A44: 33 | B44: On mouseover, Cart overlay/pop up appears | C44: 🟣 Medium | D44: Select
A45: 34 | B45: Mouseover displays all pertinent information (Price, QTY, savings, product details, estimated total, view cart link, checkout link) | C45: 🟣 Medium | D45: Select
...

Sheet 2) Home
A2: Home
A3: Above the Fold | C3: Impact | D3: Status
A4: 1 | B4: Value to customer is immediately clear | C4: 🔴 High | D4: Select
A5: 2 | B5: Timely, actionable CTA | C5: 🔴 High | D5: Select
A6: 3 | B6: Compelling graphics | C6: 🟤 Low | D6: Select
A7: 4 | B7: Value propopsition included (Sale, limited time, limited inventory, one of a kind) | C7: 🔴 High | D7: Select
A8: 5 | B8: 1-3 top level CTA's visable | C8: 🔴 High | D8: Select
A9: 6 | B9: Coherent narrative that answers users questions | C9: 🟣 Medium | D9: Select
A11: Below the Fold
A12: 7 | B12: Heirarchy Evident (site wide > category > products > details) | C12: 🟤 Low | D12: Select
A13: 8 | B13: Categories of products | C13: 🟤 Low | D13: Select
A14: 9 | B14: Individual products | C14: 🟤 Low | D14: Select
A15: 10 | B15: Articles, education or information | C15: 🟤 Low | D15: Select
A17: Reputation Management
A18: 11 | B18: Customer reviews or testimonials available | C18: 🔴 High | D18: Select
A19: 12 | B19: Ratings available from Yelp, TripAdvisor, Google, etc | C19: 🔴 High | D19: Select
A20: 13 | B20: Any PR or Blogs, Celebrities linked or displayed | C20: 🟣 Medium | D20: Select
A21: 14 | B21: Well-known brands displayed | C21: 🟣 Medium | D21: Select
A22: 15 | B22: User generated content displayed | C22: 🟤 Low | D22: Select
A23: 16 | B23: About the business, history or story. | C23: 🟤 Low | D23: Select
A25: Personalization
A26: 17 | B26: Recently Viewed Products | C26: 🟣 Medium | D26: Select
A27: 18 | B27: Related products shown based on history of user | C27: 🟣 Medium | D27: Select
B30: Need More Help? Contact TheeDigital Today: 919-341-8901
B31: https://www.theedigital.com/

Sheet 3) Category Listings
A2: Category Listing Page
A3: Overview | C3: Impact | D3: Status
A4: 1 | B4: Sorting available (price high to low, low to high, popular, alpha, etc) | C4: 🟤 Low | D4: Select
A5: 2 | B5: Filters available (size, color, features, brand); select multiple | C5: 🟤 Low | D5: Select
A6: 3 | B6: Filters customized based on product category (Dont show men's filters in women's, etc) | C6: 🟤 Low | D6: Select
A7: 4 | B7: Navigation and placement of products remains constant | C7: 🟣 Medium | D7: Select
A8: 5 | B8: Number of products available on each page visible | C8: 🟤 Low | D8: Select
A9: 6 | B9: "Load More" products at bottom, or display paging at top & bottom of page | C9: 🟤 Low | D9: Select
A10: 7 | B10: Trending, top-rated and best-selling items are shown on top of each category by default | C10: 🔴 High | D10: Select
A11: 8 | B11: Brief overview page description available; SEO purposes at bottom of page | C11: 🟤 Low | D11: Select
A12: 9 | B12: Related products or customized to viewer | C12: 🔴 High | D12: Select
A13: 10 | B13: Compare available | C13: 🟣 Medium | D13: Select
A14: 11 | B14: Category names makes sense to customer | C14: 🟣 Medium | D14: Select
A16: Product Area
A17: 12 | B17: Images consistent in size and display | C17: 🟤 Low | D17: Select
A18: 13 | B18: Additional product photos are shown on mouse hover | C18: 🟤 Low | D18: Select
A19: 14 | B19: If color options are available, make visable/known | C19: 🟣 Medium | D19: Select
A20: 15 | B20: Pricing displayed | C20: 🟣 Medium | D20: Select
A21: 16 | B21: Product information displayed: Name, description, model, SKU | C21: 🟣 Medium | D21: Select
A22: 17 | B22: Add to cart available | C22: 🔴 High | D22: Select
A23: 18 | B23: Any scarcity or "limited time" CTA displayed | C23: 🔴 High | D23: Select
A24: 19 | B24: Sale, New, Best Seller type artwork displayed | C24: 🔴 High | D24: Select
A25: 20 | B25: Reviews/Star Ratings displayed | C25: 🔴 High | D25: Select
A26: 21 | B26: Save or Add to Favorites/Wish List | C26: 🟤 Low | D26: Select
A27: 22 | B27: If locations, indicate availability | C27: 🟣 Medium | D27: Select
A28: 23 | B28: Maximum 4 items shown per row (3 best, 1 on mobile) | C28: 🟤 Low | D28: Select
B31: Need More Help? Contact TheeDigital Today: 919-341-8901
B32: https://www.theedigital.com/

Sheet 4) Products
A2: Product Display Page
A3: Overview | C3: Impact | D3: Status
A4: 1 | B4: Obvious product title; under 65 characters for Google optimization | C4: 🟤 Low | D4: Select
A5: 2 | B5: Consistent layout | C5: 🟣 Medium | D5: Select
A6: 3 | B6: All pertienent product information below the fold | C6: 🟣 Medium | D6: Select
A7: 4 | B7: Warranty, Customer Service guarantee, Contact option available | C7: 🔴 High | D7: Select
A8: 5 | B8: Add to Cart CTA is most promient action on page | C8: 🔴 High | D8: Select
A9: 6 | B9: Confirmation of "Add to Cart" when clicked; overlay or popover which doesnt obstruct product | C9: 🔴 High | D9: Select
A11: Product Images
A12: 7 | B12: The main product photo is large, attractive and sells the product | C12: 🔴 High | D12: Select
A13: 8 | B13: Zoom available | C13: 🔴 High | D13: Select
A14: 9 | B14: Variety of images displayed | C14: 🔴 High | D14: Select
A15: 10 | B15: All colors represented (or other variations) | C15: 🔴 High | D15: Select
A16: 11 | B16: Video of product | C16: 🟣 Medium | D16: Select
A18: Order Grid
A19: 12 | B19: Layout is clear, concise and easy on the users eyes | C19: 🟣 Medium | D19: Select
A20: 13 | B20: Pricing | C20: 🔴 High | D20: Select
A21: 14 | B21: Sale pricing displayed (old/new pricing), % savings shown | C21: 🔴 High | D21: Select
A22: 15 | B22: Subhead with key benefit | C22: 🟣 Medium | D22: Select
A23: 16 | B23: Bullet list of key features/benefits | C23: 🟣 Medium | D23: Select
A24: 17 | B24: Availability of product (inventory, "only one left!" - spark urgency) | C24: 🔴 High | D24: Select
A25: 18 | B25: Reviews available | C25: 🔴 High | D25: Select
A26: 19 | B26: Size chart | C26: 🟤 Low | D26: Select
A27: 20 | B27: Colors/variations | C27: 🟣 Medium | D27: Select
A28: 21 | B28: Colors/Variations tied to image display (image changes to differnet color if differnet color chosen in order grid) | C28: 🟣 Medium | D28: Select
A29: 22 | B29: Quantity to add to cart | C29: 🟣 Medium | D29: Select
A30: 23 | B30: Payment options | C30: 🔴 High | D30: Select
... A33: 26 | B33: Wish list/Favorite available | C33: 🟤 Low | D33: Select
A35: Social Media
A36: 27 | B36: Images of products being used by acutal clients available | C36: 🟤 Low | D36: Select
A37: 28 | B37: Customer video testimonials | C37: 🟣 Medium | D37: Select
A38: 29 | B38: Facebook, Twitter, IG or other Social Media shares shown | C38: 🟤 Low | D38: Select
A39: 30 | B39: Customer Questions & Answers available | C39: 🟣 Medium | D39: Select
A41: Product Description
A42: 31 | B42: Easy to read with best practices in place | C42: 🟣 Medium | D42: Select
A43: 32 | B43: Easy to scan with bullets and headlines | C43: 🟣 Medium | D43: Select
A44: 33 | B44: Accordians or Tabs for detailed sections (specifications, sizes, etc) | C44: 🟤 Low | D44: Select
A45: 34 | B45: Technical specifications design to be easy to read and understand | C45: 🟤 Low | D45: Select
A46: 35 | B46: Benefits of product clear | C46: 🟣 Medium | D46: Select
A48: Average Order Value and Conversion Boosters
...

Sheet 5) Cart
A2: Shopping Cart
A3: Overview | C3: Impact | D3: Status
A4: 1 | B4: Layout and design is focused, clear and uncluttered | C4: 🟣 Medium | D4: Select
A5: 2 | B5: CTA "Checkout" is most obvious action on the page | C5: 🔴 High | D5: Select
A6: 3 | B6: Other actions should not be confused with main CTA (such as "Apply" coupon code, these should automatically update when input) | C6: 🟤 Low | D6: Select
A7: 4 | B7: Ability to change quantity or remove items | C7: 🟤 Low | D7: Select
A8: 5 | B8: Move to Wish List/Favorites or "Save for Later" | C8: 🟤 Low | D8: Select
A9: 6 | B9: Upsells, Cross-sells or Recently viewed displayed | C9: 🔴 High | D9: Select
A10: 7 | B10: Thumbnail image of items in cart shown | C10: 🟤 Low | D10: Select
A11: 8 | B11: Sizing, Color, Product SKU, etc., displayed | C11: 🟣 Medium | D11: Select
A12: 9 | B12: Sale, SAVE promotion displayed (SAVE $20) | C12: 🔴 High | D12: Select
A13: 10 | B13: Sale pricing displayed (was/now) | C13: 🔴 High | D13: Select
A14: 11 | B14: Field for Promo Code or Coupon Code | C14: 🔴 High | D14: Select
A15: 12 | B15: Shipping options with timelines and cost | C15: 🔴 High | D15: Select
... A27: 24 | B27: Cart Popup/overlay appears on click of Icon | C27: 🟤 Low | D27: Select
B30: Need More Help? Contact TheeDigital Today: 919-341-8901
B31: https://www.theedigital.com/

Sheet 6) Checkout
A2: Checkout
A3: Overview | C3: Impact | D3: Status
A4: 1 | B4: Entire process EASY, clear, concise | C4: 🟤 Low | D4: Select
A5: 2 | B5: Limit exit opportunities | C5: 🟣 Medium | D5: Select
A6: 3 | B6: Don't confuse user with multiple CTA buttons | C6: 🔴 High | D6: Select
A7: 4 | B7: Chat or call customer service/email readily available | C7: 🟣 Medium | D7: Select
A8: 5 | B8: Progress bar on all pages to indicate how far in the process a user is (Step 1 of 2) | C8: 🔴 High | D8: Select
A9: 6 | B9: Iconography to instill trust such as Secure Checkout, Lock, any trust badges | C9: 🟤 Low | D9: Select
A10: 7 | B10: Less is more; collapse rarely-used fields | C10: 🟤 Low | D10: Select
A11: 8 | B11: Fill in by default as much information as possible | C11: 🟣 Medium | D11: Select
A12: 9 | B12: Sitcky Order Summary Displayed with cart overview & promo/coupon code area; guarantee; contact customer service | C12: 🟤 Low | D12: Select
A13: 10 | B13: Include tips & help | C13: 🟤 Low | D13: Select
A14: 11 | B14: "Back" button use available, even with Accordian type checkout pages; take user back to next perceived step | C14: 🟤 Low | D14: Select
A15: 12 | B15: Allow "Review" order before confirming payment with options to edit | C15: 🟤 Low | D15: Select
A17: Sign In
A18: 13 | B18: Checkout as Guest option | C18: 🔴 High | D18: Select
A19: 14 | B19: Sign in (email/login, password) | C19: 🟣 Medium | D19: Select
A20: 15 | B20: Remember me select box | C20: 🟣 Medium | D20: Select
A21: 16 | B21: Forgot Password link/instructions | C21: 🟣 Medium | D21: Select
A22: 17 | B22: Create an account link available | C22: 🟤 Low | D22: Select
A23: 18 | B23: CTA's clear | C23: 🟣 Medium | D23: Select
A25: Shipping Information Page/Step
A26: 19 | B26: The main CTA is the most prominent element on the checkout page | C26: 🟣 Medium | D26: Select
A27: 20 | B27: All required customer information | C27: 🟣 Medium | D27: Select
A28: 21 | B28: Prefill fields: zip code can pre-fill city/town/state, logged in information | C28: 🟤 Low | D28: Select
A29: 22 | B29: Checkbox to subscribe to emails | C29: 🟤 Low | D29: Select
A30: 23 | B30: Privacy policy noted/linked | C30: 🟤 Low | D30: Select
A31: 24 | B31: Shipping options; rate and timelines (use delivery speed, not delivery date) | C31: 🟣 Medium | D31: Select
A32: 25 | B32: Gifting options | C32: 🟤 Low | D32: Select
A33: 26 | B33: "Same as Billing" select option | C33: 🟤 Low | D33: Select
A34: 27 | B34: If phone # required, note a reason | C34: 🟤 Low | D34: Select
A35: 28 | B35: Validate address | C35: 🟤 Low | D35: Select
A37: Payment Area
A38: 29 | B38: Shipping, Billing and Shipping Method Highlighted ; Edit available | C38: 🟤 Low | D38: Select
A39: 30 | B39: Gift Card box | C39: 🟤 Low | D39: Select
A40: 31 | B40: Alternate Payment options: PayPal, etc | C40: 🔴 High | D40: Select
A41: 32 | B41: Credit Card # | C41: 🔴 High | D41: Select
A43: Credit Card Area
A44: 33 | B44: Numeric keyboard in CC field and zip code | C44: 🟣 Medium | D44: Select
A45: 34 | B45: Autoformat spaces in CC field | C45: 🟣 Medium | D45: Select
...

Sheet 7) Order Confirmation
A2: Order Confirmation
A3: Overview | C3: Impact | D3: Status
A4: 1 | B4: Clearly states payment is received and order is finalized | C4: 🟤 Low | D4: Select
A5: 2 | B5: Fully summerizes order | C5: 🟤 Low | D5: Select
A6: 3 | B6: Details shipping expectations | C6: 🟤 Low | D6: Select
A7: 4 | B7: Easy access to customer service contacts | C7: 🟣 Medium | D7: Select
A8: 5 | B8: Tracking information provided | C8: 🟣 Medium | D8: Select
A10: Conversion Opportunites
A11: 6 | B11: If possible, ability to add-to-order is encouraged | C11: 🔴 High | D11: Select
A12: 7 | B12: Cross-selling | C12: 🔴 High | D12: Select
A13: 8 | B13: Offer coupon for next purchase | C13: 🔴 High | D13: Select
A14: 9 | B14: Offer ability to create an account; sign up for rewards, etc | C14: 🔴 High | D14: Select
A15: 10 | B15: Offer "Rewards" if sharing link to friends | C15: 🟣 Medium | D15: Select
A16: 11 | B16: Sign up for emails or text | C16: 🔴 High | D16: Select
A17: 12 | B17: Resources or information links to build trust | C17: 🟣 Medium | D17: Select
A18: 13 | B18: Social sharing opportunties | C18: 🔴 High | D18: Select
A19: 14 | B19: Credit Card signup
B22: Need More Help? Contact TheeDigital Today: 919-341-8901
B23: https://www.theedigital.com/

Sheet 8) Landing Pages
A2: Landing Pages | E2: Example | F2: Evaluation | G2: Factor | I2: Impact | J2: Cost | K2: Cost | L2: Cost for Sum | M2: Sum | N2: Max | O2: Priority
A3: Overview | C3: Impact | D3: Your Site
A4: FALSE | B4: Built around single goal | C4: 🔴 High | D4: Select | E4: Example | F4: Can be Improved | G4: =IF(F4="Not Relevant","",IF(F4="Good","",IF(F4="Bad",1.33,1))) -> 1 | H4: 3 | I4: =IFERROR(__xludf.DUMMYFUNCTION("SPARKLINE(H4,{""charttype"",""bar"";""max"",3;""min"",1;""color1"",IF(H4=3,""#4078DD"",IF(H4=2,""#9CB7E9"",""#CED9EF""))})"),"") | J4: 2 | K4: =IFERROR(__xludf.DUMMYFUNCTION("SPARKLINE(J4,{""charttype"",""bar"";""max"",3;""min"",1;""color1"",IF(J4=3,""#4078DD"",IF(J4=2,""#9CB7E9"",""#CED9EF""))})"),"") | L4: =IF(J4=1,3,IF(J4=2,2,1)) -> 2 | M4: =ROUNDUP(((L4+H4)*G4),1) -> 5 | N4: 8 | O4: =IFERROR(__xludf.DUMMYFUNCTION("IF(A4=FALSE,SPARKLINE(M4:N4,{""charttype"",""bar"";""max"",8;""min"",0;""color1"",IF(M4>=5,""green"",IF(M4<=3,""orange"",""#C9C21D""));""color2"",""#eeeeee""}),""Done ✓"")"),"")
A5: FALSE | B5: CTA points to same link (can be multiple CTAs, but all pointing to same action) | C5: 🔴 High | D5: Select
A6: FALSE | B6: Provide immediate impact (sale, coupon, free shipping, purchase) | C6: 🔴 High | D6: Select
A7: FALSE | B7: Minimize disctractions (no navigation) | C7: 🔴 High | D7: Select | E7: Example | F7: Can be Improved | G7: =IF(F7="Not Relevant","",IF(F7="Good","",IF(F7="Bad",1.33,1))) -> 1 | H7: 2 | I7: =IFERROR(__xludf.DUMMYFUNCTION("SPARKLINE(H7,{""charttype"",""bar"";""max"",3;""min"",1;""color1"",IF(H7=3,""#4078DD"",IF(H7=2,""#9CB7E9"",""#dddddd""))})"),"") | J7: 1 | K7: =IFERROR(__xludf.DUMMYFUNCTION("SPARKLINE(J7,{""charttype"",""bar"";""max"",3;""min"",1;""color1"",IF(J7=3,""#4078DD"",IF(J7=2,""#9CB7E9"",""#CED9EF""))})"),"") | L7: =IF(J7=1,3,IF(J7=2,2,1)) -> 3 | M7: =ROUNDUP(((L7+H7)*G7),1) -> 5 | N7: 8 | O7: =IFERROR(__xludf.DUMMYFUNCTION("IF(A7=FALSE,SPARKLINE(M7:N7,{""charttype"",""bar"";""max"",8;""min"",0;""color1"",IF(M7>=5,""green"",IF(M7<=3,""orange"",""#C9C21D""));""color2"",""#eeeeee""}),""Done ✓"")"),"")
A8: FALSE | B8: Copy targeted to single goal and audience | C8: 🔴 High | D8: Select
A9: FALSE | B9: Optimized for specific visitor you are targeting from specific source | C9: 🔴 High | D9: Select | E9: Example | F9: Bad | G9: =IF(F9="Not Relevant","",IF(F9="Good","",IF(F9="Bad",1.33,1))) -> 1.33 | H9: 2 | I9: =IFERROR(__xludf.DUMMYFUNCTION("SPARKLINE(H9,{""charttype"",""bar"";""max"",3;""min"",1;""color1"",IF(H9=3,""#4078DD"",IF(H9=2,""#9CB7E9"",""#CED9EF""))})"),"") | J9: 1 | K9: =IFERROR(__xludf.DUMMYFUNCTION("SPARKLINE(J9,{""charttype"",""bar"";""max"",3;""min"",1;""color1"",IF(J9=3,""#4078DD"",IF(J9=2,""#9CB7E9"",""#CED9EF""))})"),"") | L9: =IF(J9=1,3,IF(J9=2,2,1)) -> 3 | M9: =ROUNDUP(((L9+H9)*G9),1) -> 6.7 | N9: 8 | O9: =IFERROR(__xludf.DUMMYFUNCTION("IF(A9=FALSE,SPARKLINE(M9:N9,{""charttype"",""bar"";""max"",8;""min"",0;""color1"",IF(M9>=5,""green"",IF(M9<=3,""orange"",""#C9C21D""));""color2"",""#eeeeee""}),""Done ✓"")"),"")
A10: FALSE | B10: Trust-building copy/images (social media, reviews, accrediations, awards) | C10: 🟣 Medium | D10: Select | E10: Example | F10: Bad | G10: =IF(F10="Not Relevant","",IF(F10="Good","",IF(F10="Bad",1.33,1))) -> 1.33 | H10: 3 | I10: =IFERROR(__xludf.DUMMYFUNCTION("SPARKLINE(H10,{""charttype"",""bar"";""max"",3;""min"",1;""color1"",IF(H10=3,""#4078DD"",IF(H10=2,""#9CB7E9"",""#dddddd""))})"),"") | J10: 2 | K10: =IFERROR(__xludf.DUMMYFUNCTION("SPARKLINE(J10,{""charttype"",""bar"";""max"",3;""min"",1;""color1"",IF(J10=3,""#4078DD"",IF(J10=2,""#9CB7E9"",""#CED9EF""))})"),"") | L10: =IF(J10=1,3,IF(J10=2,2,1)) -> 2 | M10: =ROUNDUP(((L10+H10)*G10),1) -> 6.7 | N10: 8 | O10: =IFERROR(__xludf.DUMMYFUNCTION("IF(A10=FALSE,SPARKLINE(M10:N10,{""charttype"",""bar"";""max"",8;""min"",0;""color1"",IF(M10>=5,""green"",IF(M10<=3,""orange"",""#C9C21D""));""color2"",""#eeeeee""}),""Done ✓"")"),"")
A11: FALSE | B11: Include Phone number, address, contact info | C11: 🟣 Medium | D11: Select
A12: FALSE | B12: Tested page for Mobile and Tablet | C12: 🟣 Medium | D12: Select
A13: FALSE | B13: High quality photography and eye-catching visuals | C13: 🟣 Medium | D13: Select | E13: Example | F13: Bad | G13: =IF(F13="Not Relevant","",IF(F13="Good","",IF(F13="Bad",1.33,1))) -> 1.33 | H13: 2 | I13: =IFERROR(__xludf.DUMMYFUNCTION("SPARKLINE(H13,{""charttype"",""bar"";""max"",3;""min"",1;""color1"",IF(H13=3,""#4078DD"",IF(H13=2,""#9CB7E9"",""#CED9EF""))})"),"") | J13: 1 | K13: =IFERROR(__xludf.DUMMYFUNCTION("SPARKLINE(J13,{""charttype"",""bar"";""max"",3;""min"",1;""color1"",IF(J13=3,""#4078DD"",IF(J13=2,""#9CB7E9"",""#CED9EF""))})"),"") | L13: =IF(J13=1,3,IF(J13=2,2,1)) -> 3 | M13: =ROUNDUP(((L13+H13)*G13),1) -> 6.7 | N13: 8 | O13: =IFERROR(__xludf.DUMMYFUNCTION("IF(A13=FALSE,SPARKLINE(M13:N13,{""charttype"",""bar"";""max"",8;""min"",0;""color1"",IF(M13>=5,""green"",IF(M13<=3,""orange"",""#C9C21D""));""color2"",""#eeeeee""}),""Done ✓"")"),"")
A14: FALSE | B14: Make it easy to skim | C14: 🟣 Medium | D14: Select
A15: FALSE | B15: Include a Video | C15: 🔴 High | D15: Select
A16: FALSE | B16: A/B Testing is a great option for Landing Pages | C16: 🟣 Medium | D16: Select | E16: Example | F16: Can be Improved | G16: =IF(F16="Not Relevant","",IF(F16="Good","",IF(F16="Bad",1.33,1))) -> 1 | H16: 3 | I16: =IFERROR(__xludf.DUMMYFUNCTION("SPARKLINE(H16,{""charttype"",""bar"";""max"",3;""min"",1;""color1"",IF(H16=3,""#4078DD"",IF(H16=2,""#9CB7E9"",""#CED9EF""))})"),"") | J16: 2 | K16: =IFERROR(__xludf.DUMMYFUNCTION("SPARKLINE(J16,{""charttype"",""bar"";""max"",3;""min"",1;""color1"",IF(J16=3,""#4078DD"",IF(J16=2,""#9CB7E9"",""#CED9EF""))})"),"") | L16: =IF(J16=1,3,IF(J16=2,2,1)) -> 2 | M16: =ROUNDUP(((L16+H16)*G16),1) -> 5 | N16: 8 | O16: =IFERROR(__xludf.DUMMYFUNCTION("IF(A16=FALSE,SPARKLINE(M16:N16,{""charttype"",""bar"";""max"",8;""min"",0;""color1"",IF(M16>=5,""green"",IF(M16<=3,""orange"",""#C9C21D""));""color2"",""#eeeeee""}),""Done ✓"")"),"")
B20: Need More Help? Contact TheeDigital Today: 919-341-8901
B21: https://www.theedigital.com/
F90: =IF(#REF!="Not Relevant","",IF(#REF!="Good","",IF(#REF!="Bad",1.33,1))) -> #REF!

Sheet Data Validation
A1: Select
A2: To Do
A3: To Improve
A4: Done
A5: N/A
